BEGIN:VCALENDAR
VERSION:2.0
PRODID:-//ChamberMaster//Event Calendar 2.0//EN
METHOD:PUBLISH
X-PUBLISHED-TTL:P1H
REFRESH-INTERVAL:P1H
CALSCALE:GREGORIAN
BEGIN:VTIMEZONE
TZID:America/Chicago
BEGIN:DAYLIGHT
RRULE:FREQ=YEARLY;BYMONTH=3;BYDAY=2SU
DTSTART:20070101T000000
TZOFFSETFROM:-0600
TZOFFSETTO:-0500
TZNAME:Central Daylight Time
END:DAYLIGHT
BEGIN:STANDARD
RRULE:FREQ=YEARLY;BYMONTH=11;BYDAY=1SU
DTSTART:20070101T000000
TZOFFSETFROM:-0500
TZOFFSETTO:-0600
TZNAME:Central Standard Time
END:STANDARD
END:VTIMEZONE
BEGIN:VEVENT
DTSTART;TZID=America/Chicago:20250306T073000
DTEND;TZID=America/Chicago:20250307T154500
X-MICROSOFT-CDO-ALLDAYEVENT:FALSE
SUMMARY:2025 Research Symposium
DESCRIPTION:Join Cook Children's for their Research Symposium\, which celebrates and acknowledges the research activities happening under the blue peaks. This event will highlight innovative research studies that have been conducted across the Cook Children’s Health Care System by various investigators. These studies have influenced clinical practices\, improved quality initiatives\, and have contributed immensely to the scientific community.
X-ALT-DESC;FMTTYPE=text/html:Join Cook Children's for their Research Symposium\, which celebrates and acknowledges the research activities happening under the blue peaks. This event will highlight innovative research studies that have been conducted across the Cook Children’s Health Care System by various investigators. These studies have influenced clinical practices\, improved quality initiatives\, and have contributed immensely to the scientific community.
LOCATION:801 7th Avenue Fort Worth TX 76104
UID:e.3812.1144765
SEQUENCE:3
DTSTAMP:20260419T182903Z
URL:https://biontx.growthzoneapp.com/biontx-event-calendar/Details/2025-research-symposium-1331810?sourceTypeId=Hub
END:VEVENT
END:VCALENDAR
