BEGIN:VCALENDAR
VERSION:2.0
PRODID:-//ChamberMaster//Event Calendar 2.0//EN
METHOD:PUBLISH
X-PUBLISHED-TTL:P1H
REFRESH-INTERVAL:P1H
CALSCALE:GREGORIAN
BEGIN:VTIMEZONE
TZID:America/Chicago
BEGIN:DAYLIGHT
RRULE:FREQ=YEARLY;BYMONTH=3;BYDAY=2SU
DTSTART:20070101T000000
TZOFFSETFROM:-0600
TZOFFSETTO:-0500
TZNAME:Central Daylight Time
END:DAYLIGHT
BEGIN:STANDARD
RRULE:FREQ=YEARLY;BYMONTH=11;BYDAY=1SU
DTSTART:20070101T000000
TZOFFSETFROM:-0500
TZOFFSETTO:-0600
TZNAME:Central Standard Time
END:STANDARD
END:VTIMEZONE
BEGIN:VEVENT
DTSTART;TZID=America/Chicago:20241205T133000
DTEND;TZID=America/Chicago:20241205T180000
X-MICROSOFT-CDO-ALLDAYEVENT:FALSE
SUMMARY:Life Science in Waco: A City To Believe In
DESCRIPTION:** Canceled **Join BioNTX at the Baylor Research and Innovation Collaborative (BRIC) as we spotlight the rapid growth of Waco's life science industry. This exciting event will feature two dynamic panels Why Choose Waco\, where city and chamber officials will discuss Waco's appeal as a business hub\, and Innovation and Growth: Waco's Life Science Landscape\, highlighting local life science and medical innovation businesses driving change. After the program\, we'll explore the city with a networking happy hour at the Chamber of Commerce\, followed by Waco's annual Christmas on Fifth celebration. Don't miss this opportunity to connect and celebrate Waco's expanding life science ecosystem!
X-ALT-DESC;FMTTYPE=text/html:<!DOCTYPE html><html><head><title></title></head><body aria-disabled="false"><p>** Canceled **</p><p>Join BioNTX at the Baylor Research and Innovation Collaborative (BRIC) as we spotlight the rapid growth of Waco&#39\;s life science industry. This exciting event will feature two dynamic panels&mdash\;Why Choose Waco\, where city and chamber officials will discuss Waco&#39\;s appeal as a business hub\, and Innovation and Growth: Waco&#39\;s Life Science Landscape\, highlighting local life science and medical innovation businesses driving change. After the program\, we&rsquo\;ll explore the city with a networking happy hour at the Chamber of Commerce\, followed by Waco&rsquo\;s annual Christmas on Fifth celebration. Don&rsquo\;t miss this opportunity to connect and celebrate Waco&rsquo\;s expanding life science ecosystem!</p></body></html>
LOCATION:
UID:e.3812.1060567
SEQUENCE:3
DTSTAMP:20260422T025200Z
URL:https://biontx.growthzoneapp.com/biontx-event-calendar/Details/life-science-in-waco-a-city-to-believe-in-1221746?sourceTypeId=Hub
END:VEVENT
END:VCALENDAR
