BEGIN:VCALENDAR
VERSION:2.0
PRODID:-//ChamberMaster//Event Calendar 2.0//EN
METHOD:PUBLISH
X-PUBLISHED-TTL:P1H
REFRESH-INTERVAL:P1H
CALSCALE:GREGORIAN
BEGIN:VTIMEZONE
TZID:America/Chicago
BEGIN:DAYLIGHT
RRULE:FREQ=YEARLY;BYMONTH=3;BYDAY=2SU
DTSTART:20070101T000000
TZOFFSETFROM:-0600
TZOFFSETTO:-0500
TZNAME:Central Daylight Time
END:DAYLIGHT
BEGIN:STANDARD
RRULE:FREQ=YEARLY;BYMONTH=11;BYDAY=1SU
DTSTART:20070101T000000
TZOFFSETFROM:-0500
TZOFFSETTO:-0600
TZNAME:Central Standard Time
END:STANDARD
END:VTIMEZONE
BEGIN:VEVENT
DTSTART;TZID=America/Chicago:20250305T100000
DTEND;TZID=America/Chicago:20250305T110000
X-MICROSOFT-CDO-ALLDAYEVENT:FALSE
SUMMARY:CPRIT Grantee Essentials - Prevention Grantee Training
DESCRIPTION:Join CPRIT for a redesigned and interactive webinar that will help current grantees successfully navigate compliance and reporting requirements. The training will include an overview of common reporting errors\, relevant administrative rule changes\, interactive exercises\, and a Q&A with staff.
X-ALT-DESC;FMTTYPE=text/html:Join CPRIT for a redesigned and interactive webinar that will help current grantees successfully navigate compliance and reporting requirements. The training will include an overview of common reporting errors\, relevant administrative rule changes\, interactive exercises\, and a Q&A with staff.
LOCATION:
UID:e.3812.1148023
SEQUENCE:3
DTSTAMP:20260419T182828Z
URL:https://biontx.growthzoneapp.com/biontx-event-calendar/Details/cprit-grantee-essentials-prevention-grantee-training-1335892?sourceTypeId=Hub
END:VEVENT
END:VCALENDAR
