BEGIN:VCALENDAR
VERSION:2.0
PRODID:-//ChamberMaster//Event Calendar 2.0//EN
METHOD:PUBLISH
X-PUBLISHED-TTL:P1H
REFRESH-INTERVAL:P1H
CALSCALE:GREGORIAN
BEGIN:VTIMEZONE
TZID:America/Chicago
BEGIN:DAYLIGHT
RRULE:FREQ=YEARLY;BYMONTH=3;BYDAY=2SU
DTSTART:20070101T000000
TZOFFSETFROM:-0600
TZOFFSETTO:-0500
TZNAME:Central Daylight Time
END:DAYLIGHT
BEGIN:STANDARD
RRULE:FREQ=YEARLY;BYMONTH=11;BYDAY=1SU
DTSTART:20070101T000000
TZOFFSETFROM:-0500
TZOFFSETTO:-0600
TZNAME:Central Standard Time
END:STANDARD
END:VTIMEZONE
BEGIN:VEVENT
DTSTART;TZID=America/Chicago:20250226T120000
DTEND;TZID=America/Chicago:20250226T130000
X-MICROSOFT-CDO-ALLDAYEVENT:FALSE
SUMMARY:Dallas Lunch and Learn: Go-To-Market Strategies for Startup Success
DESCRIPTION:Join MassChallenge for a lunch and learn. Experts will discuss Go-To-Market Strategies for Startup Success\, offering valuable insights to help you launch and scale your business. This is a great opportunity to connect with fellow entrepreneurs and gain practical knowledge. Lunch will be provided—don’t miss out!
X-ALT-DESC;FMTTYPE=text/html:Join MassChallenge for a lunch and learn. Experts will discuss Go-To-Market Strategies for Startup Success\, offering valuable insights to help you launch and scale your business. This is a great opportunity to connect with fellow entrepreneurs and gain practical knowledge. Lunch will be provided—don’t miss out!
LOCATION:3000 Pegasus Park Dr. Dallas TX 75247
UID:e.3812.1142998
SEQUENCE:3
DTSTAMP:20260419T183019Z
URL:https://biontx.growthzoneapp.com/biontx-event-calendar/Details/dallas-lunch-and-learn-go-to-market-strategies-for-startup-success-1329705?sourceTypeId=Hub
END:VEVENT
END:VCALENDAR
