BEGIN:VCALENDAR
VERSION:2.0
PRODID:-//ChamberMaster//Event Calendar 2.0//EN
METHOD:PUBLISH
X-PUBLISHED-TTL:P1H
REFRESH-INTERVAL:P1H
CALSCALE:GREGORIAN
BEGIN:VTIMEZONE
TZID:America/Chicago
BEGIN:DAYLIGHT
RRULE:FREQ=YEARLY;BYMONTH=3;BYDAY=2SU
DTSTART:20070101T000000
TZOFFSETFROM:-0600
TZOFFSETTO:-0500
TZNAME:Central Daylight Time
END:DAYLIGHT
BEGIN:STANDARD
RRULE:FREQ=YEARLY;BYMONTH=11;BYDAY=1SU
DTSTART:20070101T000000
TZOFFSETFROM:-0500
TZOFFSETTO:-0600
TZNAME:Central Standard Time
END:STANDARD
END:VTIMEZONE
BEGIN:VEVENT
DTSTART;TZID=America/Chicago:20250225T163000
DTEND;TZID=America/Chicago:20250225T183000
X-MICROSOFT-CDO-ALLDAYEVENT:FALSE
SUMMARY:Funding and Building Your Life Science Company
DESCRIPTION:Join Life Science Oklahoma for an insightful discussion with local and national experts on the best practices for funding and growing your life science company. This free event will take place at Innovation Hall.
X-ALT-DESC;FMTTYPE=text/html:Join Life Science Oklahoma for an insightful discussion with local and national experts on the best practices for funding and growing your life science company. This free event will take place at Innovation Hall.
LOCATION:316 NE 9th St. Oklahoma City OK
UID:e.3812.1148063
SEQUENCE:3
DTSTAMP:20260419T183020Z
URL:https://biontx.growthzoneapp.com/biontx-event-calendar/Details/funding-and-building-your-life-science-company-1335929?sourceTypeId=Hub
END:VEVENT
END:VCALENDAR
