BEGIN:VCALENDAR
VERSION:2.0
PRODID:-//ChamberMaster//Event Calendar 2.0//EN
METHOD:PUBLISH
X-PUBLISHED-TTL:P1H
REFRESH-INTERVAL:P1H
CALSCALE:GREGORIAN
BEGIN:VTIMEZONE
TZID:America/Chicago
BEGIN:DAYLIGHT
RRULE:FREQ=YEARLY;BYMONTH=3;BYDAY=2SU
DTSTART:20070101T000000
TZOFFSETFROM:-0600
TZOFFSETTO:-0500
TZNAME:Central Daylight Time
END:DAYLIGHT
BEGIN:STANDARD
RRULE:FREQ=YEARLY;BYMONTH=11;BYDAY=1SU
DTSTART:20070101T000000
TZOFFSETFROM:-0500
TZOFFSETTO:-0600
TZNAME:Central Standard Time
END:STANDARD
END:VTIMEZONE
BEGIN:VEVENT
DTSTART;TZID=America/Chicago:20250228T100000
DTEND;TZID=America/Chicago:20250228T110000
X-MICROSOFT-CDO-ALLDAYEVENT:FALSE
SUMMARY:How will smaller\, smarter deals help life sciences companies shape the future with confidence?
DESCRIPTION:Join EY's panel of industry leaders as we explore the findings from our 13th annual EY M&A Firepower report\, "How will smaller\, smarter deals help life sciences companies shape the future with confidence?"\nAs their report will tell you\, the industry has shifted from large deals to smaller\, more agile ones.
X-ALT-DESC;FMTTYPE=text/html:Join EY's panel of industry leaders as we explore the findings from our 13th annual EY M&A Firepower report\, "How will smaller\, smarter deals help life sciences companies shape the future with confidence?"\nAs their report will tell you\, the industry has shifted from large deals to smaller\, more agile ones.
LOCATION:
UID:e.3812.1148082
SEQUENCE:3
DTSTAMP:20260419T183019Z
URL:https://biontx.growthzoneapp.com/biontx-event-calendar/Details/how-will-smaller-smarter-deals-help-life-sciences-companies-shape-the-future-with-confidence-1335953?sourceTypeId=Hub
END:VEVENT
END:VCALENDAR
