BEGIN:VCALENDAR
VERSION:2.0
PRODID:-//ChamberMaster//Event Calendar 2.0//EN
METHOD:PUBLISH
X-PUBLISHED-TTL:P1H
REFRESH-INTERVAL:P1H
CALSCALE:GREGORIAN
BEGIN:VTIMEZONE
TZID:America/Chicago
BEGIN:DAYLIGHT
RRULE:FREQ=YEARLY;BYMONTH=3;BYDAY=2SU
DTSTART:20070101T000000
TZOFFSETFROM:-0600
TZOFFSETTO:-0500
TZNAME:Central Daylight Time
END:DAYLIGHT
BEGIN:STANDARD
RRULE:FREQ=YEARLY;BYMONTH=11;BYDAY=1SU
DTSTART:20070101T000000
TZOFFSETFROM:-0500
TZOFFSETTO:-0600
TZNAME:Central Standard Time
END:STANDARD
END:VTIMEZONE
BEGIN:VEVENT
DTSTART;TZID=America/Chicago:20250227T080000
DTEND;TZID=America/Chicago:20250227T110000
X-MICROSOFT-CDO-ALLDAYEVENT:FALSE
SUMMARY:Invest: DFW 2025 Launch Conference
DESCRIPTION:Join Capital Analytics Associates to connect and hear from leaders in DFW who will be providing their insights into the key issues impacting the region at our highly anticipated conference and networking event. This 300-person event\, hosted at Esports Stadium\, includes ample networking opportunities\, food and drink\, and insightful panel discussions.
X-ALT-DESC;FMTTYPE=text/html:<!DOCTYPE html><html><head><title></title></head><body aria-disabled="false"><p>Join Capital Analytics Associates to connect and hear from leaders in DFW who will be providing their insights into the key issues impacting the region at our highly anticipated conference and networking event. This 300-person event\, hosted at Esports Stadium\, includes ample networking opportunities\, food and drink\, and insightful panel discussions.</p></body></html>
LOCATION:1200 Ballpark Way Arlingotn TX 76011
UID:e.3812.1128831
SEQUENCE:3
DTSTAMP:20260419T183009Z
URL:https://biontx.growthzoneapp.com/biontx-event-calendar/Details/invest-dfw-2025-launch-conference-1311610?sourceTypeId=Hub
END:VEVENT
END:VCALENDAR
