BEGIN:VCALENDAR
VERSION:2.0
PRODID:-//ChamberMaster//Event Calendar 2.0//EN
METHOD:PUBLISH
X-PUBLISHED-TTL:P1H
REFRESH-INTERVAL:P1H
CALSCALE:GREGORIAN
BEGIN:VTIMEZONE
TZID:America/Chicago
BEGIN:DAYLIGHT
RRULE:FREQ=YEARLY;BYMONTH=3;BYDAY=2SU
DTSTART:20070101T000000
TZOFFSETFROM:-0600
TZOFFSETTO:-0500
TZNAME:Central Daylight Time
END:DAYLIGHT
BEGIN:STANDARD
RRULE:FREQ=YEARLY;BYMONTH=11;BYDAY=1SU
DTSTART:20070101T000000
TZOFFSETFROM:-0500
TZOFFSETTO:-0600
TZNAME:Central Standard Time
END:STANDARD
END:VTIMEZONE
BEGIN:VEVENT
DTSTART;TZID=America/Chicago:20260511T180000
DTEND;TZID=America/Chicago:20260511T210000
X-MICROSOFT-CDO-ALLDAYEVENT:FALSE
SUMMARY:Nucleate Dallas Semi-Finals
DESCRIPTION:The Nucleate Texas Activator Semifinal Pitches take place across all our city chapters\, bringing together the strongest teams in each region as they compete for a spot at our statewide Demo Day. These sessions showcase high-potential ventures built at the intersection of science\, engineering\, and entrepreneurship.\nTeams will present their technologies\, traction\, and vision to panels of judges drawn from industry\, academia\, and venture. Their evaluations determine which finalists advance to Demo Day\, where the top companies from across Texas will pitch on one of the most visible stages in the regional biotech ecosystem.
X-ALT-DESC;FMTTYPE=text/html:The Nucleate Texas Activator Semifinal Pitches take place across all our city chapters\, bringing together the strongest teams in each region as they compete for a spot at our statewide Demo Day. These sessions showcase high-potential ventures built at the intersection of science\, engineering\, and entrepreneurship.\nTeams will present their technologies\, traction\, and vision to panels of judges drawn from industry\, academia\, and venture. Their evaluations determine which finalists advance to Demo Day\, where the top companies from across Texas will pitch on one of the most visible stages in the regional biotech ecosystem.
LOCATION:3060 Pegasus Park Drive Building 6 Dallas TX 75247
UID:e.3812.1449335
SEQUENCE:3
DTSTAMP:20260423T180128Z
URL:https://biontx.growthzoneapp.com/biontx-event-calendar/Details/nucleate-dallas-semi-finals-1716769?sourceTypeId=Hub
END:VEVENT
END:VCALENDAR
