BEGIN:VCALENDAR
VERSION:2.0
PRODID:-//ChamberMaster//Event Calendar 2.0//EN
METHOD:PUBLISH
X-PUBLISHED-TTL:P1H
REFRESH-INTERVAL:P1H
CALSCALE:GREGORIAN
BEGIN:VTIMEZONE
TZID:America/Chicago
BEGIN:DAYLIGHT
RRULE:FREQ=YEARLY;BYMONTH=3;BYDAY=2SU
DTSTART:20070101T000000
TZOFFSETFROM:-0600
TZOFFSETTO:-0500
TZNAME:Central Daylight Time
END:DAYLIGHT
BEGIN:STANDARD
RRULE:FREQ=YEARLY;BYMONTH=11;BYDAY=1SU
DTSTART:20070101T000000
TZOFFSETFROM:-0500
TZOFFSETTO:-0600
TZNAME:Central Standard Time
END:STANDARD
END:VTIMEZONE
BEGIN:VEVENT
DTSTART;TZID=America/Chicago:20250227T163000
DTEND;TZID=America/Chicago:20250227T180000
X-MICROSOFT-CDO-ALLDAYEVENT:FALSE
SUMMARY:Pegasus Park Speaker Series: Fireside Chat with Dr. David Fajgenbaum
DESCRIPTION:Join us at Pegasus Park to learn about Dr. David Fajgenbaum's groundbreaking work to find new uses for existing medicines\, using cutting-edge AI to uncover treatments for diseases that currently lack effective options.
X-ALT-DESC;FMTTYPE=text/html:<!DOCTYPE html><html><head><title></title></head><body aria-disabled="false"><p>Join us at Pegasus Park to learn about Dr. David Fajgenbaum&#39\;s groundbreaking work to find new uses for existing medicines\, using cutting-edge AI to uncover treatments for diseases that currently lack effective options.</p></body></html>
LOCATION:3000 Pegasus Park Dr. Dallas TX 75247
UID:e.3812.1128797
SEQUENCE:3
DTSTAMP:20260419T183021Z
URL:https://biontx.growthzoneapp.com/biontx-event-calendar/Details/pegasus-park-speaker-series-fireside-chat-with-dr-david-fajgenbaum-1311528?sourceTypeId=Hub
END:VEVENT
END:VCALENDAR
