BEGIN:VCALENDAR
VERSION:2.0
PRODID:-//ChamberMaster//Event Calendar 2.0//EN
METHOD:PUBLISH
X-PUBLISHED-TTL:P1H
REFRESH-INTERVAL:P1H
CALSCALE:GREGORIAN
BEGIN:VTIMEZONE
TZID:America/Chicago
BEGIN:DAYLIGHT
RRULE:FREQ=YEARLY;BYMONTH=3;BYDAY=2SU
DTSTART:20070101T000000
TZOFFSETFROM:-0600
TZOFFSETTO:-0500
TZNAME:Central Daylight Time
END:DAYLIGHT
BEGIN:STANDARD
RRULE:FREQ=YEARLY;BYMONTH=11;BYDAY=1SU
DTSTART:20070101T000000
TZOFFSETFROM:-0500
TZOFFSETTO:-0600
TZNAME:Central Standard Time
END:STANDARD
END:VTIMEZONE
BEGIN:VEVENT
DTSTART;TZID=America/Chicago:20250819T093000
DTEND;TZID=America/Chicago:20250819T113000
X-MICROSOFT-CDO-ALLDAYEVENT:FALSE
SUMMARY:Q3 2025 BHIANT Quarterly Meeting
DESCRIPTION:Join the Biotechnology & Healthcare Industry Alliance of North Texas (BHIANT) for their third quarterly meeting of 2025. Meet with other industry leaders and collaborate to tackle pressing challenges\, redefine shared goals\, and strengthen the biotech and healthcare ecosystem across North Texas. BHIANT is an industry sector partnership comprised of healthcare organizations\, biotech companies\, and community partners that meets every quarter to discuss opportunities for growth in the North Texas region. If you are a biotech company or healthcare system leader\, we would love to see you at this meeting.
X-ALT-DESC;FMTTYPE=text/html:<!DOCTYPE html><html><head><title></title></head><body aria-disabled="false"><p>Join the Biotechnology &amp\; Healthcare Industry Alliance of North Texas (BHIANT) for their third quarterly meeting of 2025. Meet with other industry leaders and collaborate to tackle pressing challenges\, redefine shared goals\, and strengthen the biotech and healthcare ecosystem across North Texas. BHIANT is an industry sector partnership comprised of healthcare organizations\, biotech companies\, and community partners that meets every quarter to discuss opportunities for growth in the North Texas region. If you are a biotech company or healthcare system leader\, we would love to see you at this meeting.</p></body></html>
LOCATION:2350 N Stemmons Fwy Dallas TX 75207
UID:e.3812.1195812
SEQUENCE:3
DTSTAMP:20260419T131221Z
URL:https://biontx.growthzoneapp.com/biontx-event-calendar/Details/q3-2025-bhiant-quarterly-meeting-1395791?sourceTypeId=Hub
END:VEVENT
END:VCALENDAR
