BEGIN:VCALENDAR
VERSION:2.0
PRODID:-//ChamberMaster//Event Calendar 2.0//EN
METHOD:PUBLISH
X-PUBLISHED-TTL:P1H
REFRESH-INTERVAL:P1H
CALSCALE:GREGORIAN
BEGIN:VTIMEZONE
TZID:America/Chicago
BEGIN:DAYLIGHT
RRULE:FREQ=YEARLY;BYMONTH=3;BYDAY=2SU
DTSTART:20070101T000000
TZOFFSETFROM:-0600
TZOFFSETTO:-0500
TZNAME:Central Daylight Time
END:DAYLIGHT
BEGIN:STANDARD
RRULE:FREQ=YEARLY;BYMONTH=11;BYDAY=1SU
DTSTART:20070101T000000
TZOFFSETFROM:-0500
TZOFFSETTO:-0600
TZNAME:Central Standard Time
END:STANDARD
END:VTIMEZONE
BEGIN:VEVENT
DTSTART;TZID=America/Chicago:20260504T173000
DTEND;TZID=America/Chicago:20260504T193000
X-MICROSOFT-CDO-ALLDAYEVENT:FALSE
SUMMARY:WIB-North Texas: Fireside Chat & Networking
DESCRIPTION:Join Women In Bio North Texas for an intimate fireside chat with Kristen Doyle\, CEO of the Cancer Prevention and Research Institute of Texas (CPRIT)\, offering a rare opportunity to hear from one of Texas’s most influential leaders in cancer research and biomedical innovation. She will share insights from her leadership journey\, her vision for advancing the state’s life sciences ecosystem\, and the personal experiences that shape her commitment to patient-centered impact. Her perspective as both a seasoned executive and a cancer survivor promises an inspiring and deeply resonant conversation for our community.
X-ALT-DESC;FMTTYPE=text/html:Join Women In Bio North Texas for an intimate fireside chat with Kristen Doyle\, CEO of the Cancer Prevention and Research Institute of Texas (CPRIT)\, offering a rare opportunity to hear from one of Texas’s most influential leaders in cancer research and biomedical innovation. She will share insights from her leadership journey\, her vision for advancing the state’s life sciences ecosystem\, and the personal experiences that shape her commitment to patient-centered impact. Her perspective as both a seasoned executive and a cancer survivor promises an inspiring and deeply resonant conversation for our community.
LOCATION:3000 Pegasus Drive Dallas TX 75247
UID:e.3812.1449290
SEQUENCE:3
DTSTAMP:20260423T180128Z
URL:https://biontx.growthzoneapp.com/biontx-event-calendar/Details/wib-north-texas-fireside-chat-networking-1716691?sourceTypeId=Hub
END:VEVENT
END:VCALENDAR
